BEGIN:VCALENDAR
VERSION:2.0
PRODID:icalendar-ruby
CALSCALE:GREGORIAN
METHOD:PUBLISH
BEGIN:VEVENT
DTSTAMP:20260423T132712Z
UID:27-427746@zionsvillebfc.org
DTSTART:20260426T223000Z
DTEND:20260427T000000Z
CLASS:PUBLIC
CREATED:20260418T235505
DESCRIPTION:We have the delight and privilege to have Eirini and Efthemes S
 ioukiouroglou with us beginning at 6:30pm. They will be sharing an update 
 of their ministry in Greece. Light refreshments will be provided.
LAST-MODIFIED:20260418T235505
LOCATION:Bennett Hall
SUMMARY:An Evening with the Sioukiouroglou's
URL;VALUE=URI:https://www.zionsvillebfc.org/events/an-evening-with-the-siou
 kiouroglous/2026-04-26
ATTACH;FILENAME=78rK.jpg;FMTTYPE=image/jpeg:https://dq5pwpg1q8ru0.cloudfron
 t.net/2026/04/19/03/49/15/a69ab34f-3292-48cd-a377-dedb08d4bc59/78rK.jpg
END:VEVENT
END:VCALENDAR
